Workbook
Name ___nt1: #REF!
Name ___nt1: #REF!
Name ___nt2: #REF!
Name ___nt2: #REF!
Name ___nt3: #REF!
Name ___nt3: #REF!
Name ___nt4: #REF!
Name ___nt4: #REF!
Name ___nt5: #REF!
Name ___nt5: #REF!
Name ___nt6: #REF!
Name ___nt6: #REF!
Name ___nt7: #REF!
Name ___nt7: #REF!
Name ___nt8: #REF!
Name ___nt8: #REF!
Name ___nt9: #REF!
Name ___nt9: #REF!
Name ___tt5: #REF!
Name ___tt5: #REF!
Name ___tt6: #REF!
Name ___tt6: #REF!
Name ___ttt5: #REF!
Name ___ttt5: #REF!
Name ___zt2: #REF!
Name ___zt2: #REF!
Name ___zt3: #REF!
Name ___zt3: #REF!
Name ___zt4: #REF!
Name ___zt4: #REF!
Name ___zt5: #REF!
Name ___zt5: #REF!
Name ___zt51: #REF!
Name ___zt51: #REF!
Name ___zt6: #REF!
Name ___zt6: #REF!
Name ___zt7: #REF!
Name ___zt7: #REF!
Name ___zt8: #REF!
Name ___zt8: #REF!
Name __zt9: [1]s!$B$5
Name _nt1: #REF!
Name _nt1: #REF!
Name _nt2: #REF!
Name _nt2: #REF!
Name _nt3: #REF!
Name _nt3: #REF!
Name _nt4: #REF!
Name _nt4: #REF!
Name _nt5: #REF!
Name _nt5: #REF!
Name _nt6: #REF!
Name _nt6: #REF!
Name _nt7: #REF!
Name _nt7: #REF!
Name _nt8: #REF!
Name _nt8: #REF!
Name _nt9: #REF!
Name _nt9: #REF!
Name _tt5: #REF!

Sheet П 1.13 2016 расчет 
I1: Таблица N П1.13
A3: Расчет суммы платы АО "РКЦ "Прогресс"
A4: за услуги по организации функционирования и развитию ЕЭС России,
A5: оперативно-диспетчерскому управлению в электроэнергетике,
A6: организации функционирования торговой системы оптового
A7: рынка электрической энергии (мощности), передаче
A8: электрической энергии по единой национальной
A9: (общероссийской) электрической сети
A11: № п/п | B11: технологический расход электроэнергии на транспортировку | G11: на содержание сетей | I11: Сумма платы за услуги
B12: Показатели | C12: плановый объем отпуска 220 кВ и ниже | D12: норматив потерь | E12: объем потерь | F12: тариф на оплату | G12: заявленная мощность | H12: тариф на оплату
C13: МВтч | D13: % | E13: МВтч | F13: руб./Мвтч | G13: МВт | H13: руб./Мвт | I13: тыс. руб.
B14: ОАО "ФСК ЕЭС"
A15: 1. | B15: Базовый период | L15: 17,604 МВт | M15: в дог.ФСК
B16: 1 полугодие 2015 г. | C16: 10340.648 | D16: 4.61 | E16: =C16*D16% -> 476.70387 | F16: 1730.59 | G16: 3.856 | H16: 134589.17 | I16: =(E16*F16+G16*6*H16)/1000 -> 3938.834 | J16: =(4+4+3.3+3+3+3)/6 -> 3.3833333 | K16: 2 п-е 2014г. был | L16: тариф был пересмотрен
B17: 2 полугодие 2015 г. | C17: 10257.907 | D17: 4.61 | E17: =C17*D17% -> 472.88951 | F17: 1860.38 | G17: 3.856 | H17: 144686.52 | I17: =(E17*F17+G17*6*H17)/1000 -> 4227.2215 | J17: =(3+3+3.3+3.3+4+4)/6 -> 3.4333333 | K17: 147681.2 | L17: протокол разногласий 5,05 МВт
B18: Итого 2015 г. | C18: =SUM(C16:C17) -> 20598.555 | D18: =D17 -> 4.61 | E18: =SUM(E16:E17) -> 949.59339 | G18: =(G16+G17)/2 -> 3.856 | I18: =SUM(I16:I17) -> 8166.0555 | J18: =(J16+J17)/2 -> 3.4083333 | L18: 11297.893 | M18: з.м. | N18: =755.798741*3+607.33827*3+605.65127*3+753.69935*3 -> 8167.4629 | O18: потери | P18: =191.45418+189.93766+146.00148+141.26387+127.32067+140.35634+162.60057+175.7855+189.4222+229.75914+193.11001+201.00106 -> 2088.0127 | Q18: =N18+P18 -> 10255.476
A19: 2. | B19: Период регулирования | J19: =(4+4+3.3+3+3+3+3+3+3.3+3.3+4+4)/12 -> 3.4083333 | N19: =(1923.99+1908.75+1467.22+1419.61+1279.49+1410.49) -> 9409.55
B20: 1 полугодие 2016 г. | C20: 10829.473 | D20: 3.76 | E20: =C20*D20% -> 407.1882 | F20: 1860.38 | G20: 2.79219 | H20: 144686.52 | I20: =(E20*F20+G20*6*H20)/1000 -> 3181.4783 | L20: =N19+N20 -> 20983.17 | N20: =(1634.03+1766.53+1903.57+2308.93+1940.63+2019.93) -> 11573.62
B21: 2 полугодие 2016 г. | C21: 10213.06 | D21: 3.76 | E21: =C21*D21% -> 384.01107 | F21: 1962.7 | G21: 2.76739 | H21: 155541.58 | I21: =(E21*F21+G21*6*H21)/1000 -> 3336.3638 | K21: рост с июля | L21: 1.075 | M21: по предлож.ФСК на 2015г.
B22: Итого 2016 г. | C22: =SUM(C20:C21) -> 21042.534 | D22: =(D20+D21)/2 -> 3.76 | E22: =C22*D22/100 -> 791.19927 | G22: =(G20+G21)/2 -> 2.77979 | I22: =SUM(I20:I21) -> 6517.8421 | K22: с июля 2015 г. | L22: =H21/H20 -> 1.0750247 | M22: 9322.2 | N22: =(E21*2030.3+G21*163310.63*6)/1000+I20 -> 6672.8012 | P22: =P18+N18 -> 10255.476
N23: =M22-I22 -> 2804.3579
J24: 6266,23 утверд.МЭ 2016
A25: Первый зам. генерального директора - | L25: 2014г. от бюджетного отдела
A26: главный инженер | H26: =#REF! -> #REF! | L26: 10652.16
C29: =#REF! -> #REF! | D29: =#REF! -> #REF! | L29: в договоре ФСК | N29: з.м.
C30: =#REF! -> #REF! | D30: =#REF! -> #REF! | N30: =2375.90731*6+2599.77984*6 -> 29854.123
C31: =#REF! -> #REF! | D31: =#REF! -> #REF! | N31: потери
N32: =C18*D18/100*F16/1000 -> 1643.3568
N33: итого
N34: =N30+N32 -> 31497.48
L35: д.заплатить по тарифам с МРСК на пл.объем 2014 г.
N36: =11916.4+11621.3 -> 23537.7
L38: не хватает | N38: =N36-N34 -> -7959.7797

Sheet Выпад.дох.за 2015г.в тар.2017
A1: Расчет выпадающих по независящим причинам доходов от оказания услуг по передаче электрической энергии
A2: сетевой организации АО «РКЦ «Прогресс» за 2015 г., | H2: доход | I2: расход
A3: подлежащих включению в НВВ на передачу электрической энергии в 2017 г. | H3: =SUM(G12:G14)+G21 -> 17052.59 | I3: =SUM(G17:G20)+G22 -> 7877.17
A4: ???+доход от нк энергосбыт+ энергобытобслуживание ≈6,0+27,0=33,0т.р. | H4: Д.Б. | I4: =G7 -> 11020.37 | Q4: по сч-ф | R4: по плат.
A5: № п/п | B5: Показатели | G5: Сумма, тыс.руб. (без НДС) | H5: по ф.5 2013г. | I5: =I4-#REF! -> #REF!
B6: Утвержденнная выручка АО "РКЦ "Прогресс" на 2015 год
A7: 1. | B7: Утвержденная НВВ АО "РКЦ "Прогресс" (с учетом оплаты услуг ПАО "ФСК ЕЭС" и без уч.оплаты потерь на потребителя) на 2015 г. - | G7: 11020.37 | H7: 2302.9
A8: 1.1. | B8: в т.ч. Оплата услуг ПАО "ФСК ЕЭС" | G8: 8165.45 | H8: 14184.805
A9: 1.2. | B9: в т.ч. Утвержденная НВВ АО "РКЦ "Прогресс" на 2015 г. (без оплаты услуг ПАО "ФСК ЕЭС" и оплаты потерь) - | G9: =G7-G8 -> 2854.92 | H9: 14184.805
B10: Фактическая выручка АО "РКЦ "Прогресс" за 2015 год
A11: 2. | B11: Доход АО "РКЦ "Прогресс" всего | G11: =SUM(G12:G14) -> 16584.2 | R11: + псх
A12: 2.1. | B12: Доход АО "РКЦ "Прогресс" от ОАО "Самараэнерго" за услуги по передаче за 2015 г. (по котловым тарифам) - | G12: 13863.13 | H12: 14184.805 | Q12: =(1562692.98-489.19+1507438.53+1559332.1+1208328.25+932620.28+1067700.51+1022153.17+1073693.19+1078203.49+1257924.25+1688542.05+2360932.59)/1.18/1000 -> 13829.722 | R12: =(1562.96245+1507.73652+1559.56674+1208.5514+933.07772+1081.09326+1026.75988+1074.48587+1079.58811+1277.40177+1691.04973) -> 14002.273
A13: 2.2. | B13: в т.ч. Доход АО "РКЦ "Прогресс" от МП г.о.Самара "Самарский метрополитен" за услуги по передаче за 2015 г.- | G13: 799.55 | H13: 606.12 | Q13: =(145756.41+126872.99+139815.9+114721.95+52305.62+63205.15+67877.2+64578.67+61157.47+46958.91+41523.89)/1.18/1000 -> 783.70692 | S13: =G13-Q13 -> 15.843085 | T13: =(145756.41+126872.99+139815.9+114721.95+52305.62+63205.15+67877.2+64578.67+61157.47+46958.91+41523.89) -> 924774.16
A14: 2.3. | B14: в т.ч. Доход АО "РКЦ "Прогресс" от ЗАО "СГЭС" за услуги по передаче эл.энергии за 2015 г.- | G14: 1921.52 | H14: 8.85 | Q14: =(330757+358286.49+225297.83+270986.84+240988.94+311394.18+245198.13)/1.18/1000 -> 1680.4317
A15: 3. | B15: Платежи АО "РКЦ "Прогресс" | G15: =SUM(G16:G22) -> 16040.47
A16: 3.1. | B16: Оплата услуг ПАО "ФСК ЕЭС" | G16: 7694.91 | H16: 3495.9822 | J16: 1495.2 | K16: тыс.кВтч | Q16: 7639.4 | R16: =(8916.47073-1)/1.18 -> 7555.4837 | S16: =G16-Q16 -> 55.51
A17: 3.2. | B17: Платежи АО "РКЦ "Прогресс" в адрес ОАО "РЖД" КДЭ СП Трансэнерго за услуги по передаче эл.энергии за 2015 г.- | G17: 36.84 | H17: 4.54 | Q17: =(1972.57+2019.48+1612.24+1326.35+1501.68+1441.28+1974.96+4106.12+1942.88+3121.06+6007.26+16168.85)/1000/1.18 -> 36.605703
A18: 3.3. | B18: Платежи АО "РКЦ "Прогресс" в адрес ОАО "МРСК Волги" за услуги по передаче эл.энергии за 2015 г.- | G18: 2929.38 | H18: 17141.94 | Q18: =(3045.93693+190.46282+410.72779)/1.18 -> 3090.7861
A19: 3.4. | B19: Платежи АО "РКЦ "Прогресс" в адрес ЗАО "ССК"(подсобное хозяйство Борское) за услуги по передаче эл.энергии за 2015 г.- | G19: 891.68 | H19: 552.17058 | I19: только авг-сент.
A20: 3.5. | B20: Платежи АО "РКЦ "Прогресс" в адрес ЗАО "ССК"(промплощадка) за услуги по передаче эл.энергии за 2015 г.- | G20: 930.96 | H20: нет | J20: утв.потери 2013г. | P20: =SUM(G19:G20) -> 1822.64 | Q20: =(240.24978+274.24988+277.22959+955.44908) -> 1747.1783
A21: 3.6. | B21: Платежи АО "РКЦ "Прогресс" в адрес АО "Самаранефтегаз" за услуги по передаче эл.энергии за 2015 г.- | G21: 468.39 | H21: нет | I21: 261.35 | Q21: =(26368+32936.4+29698.68+30280.92+5332.99+31002.99+14489.38+8487.83+6880.86+20738.46+10233.3+21068.3+11410.64+28107.07+36877.05+11878.02+51119.76+62914.17)/1.18/1000 -> 372.7329 | R21: =26368+32936.4+29698.68+30280.92+5333.99+31002.99+14489.38+8487.83+6880.86+20738.46+10233.3+21068.3+11410.64+28107.07+36877.05+11878.02+51119.76+62914.17+18630.12+17031.36+16359.3 -> 491846.6
A22: 3.7. | B22: Покупка потерь на потребителя в ОАО "Самараэнерго" за 2015 г. | G22: 3088.31 | H22: 3495.9822 | J22: 1495.2 | K22: тыс.кВтч
B23: Фактическая выручка АО "РКЦ "Прогресс" на осуществления деятельности по передаче электрической энергии за 2015г.(на содержание сетей)
A24: 4. | B24: 16584,20-16040,47 = +543,73 тыс.руб. | G24: =G11-G15 -> 543.73 | H24: =SUM(H12:H14)-H17-H18-H19-H22 -> -6394.8577 | I24: -766.1
A25: 5. | B25: Выпадающие доходы (убытки) АО "РКЦ "Прогресс" от осуществления деятельности по передаче электрической энергии за 2015г.
B26: 2854,92 - 543,73 = +2311,19 тыс.руб. | G26: =G9-G24 -> 2311.19 | H26: =H7-H24 -> 8697.7577 | I26: -766.1
A29: В связи со сложившейся ситуацией в 2015 г., прошу учесть выпадающие доходы (убытки) АО "РКЦ "Прогресс" от осуществления деятельности по передаче электрической энергии за 2015 г. | Q29: =15461.52+761.06+3128.2-2374.47 -> 16976.31
A30: в размере - 2311,19 тыс.руб. при утверждении необходимой валовой выручки на 2017 г. | Q30: =#REF! -> #REF!
Q31: =Q30-Q29 -> #REF!
H33: =2265.5-G7 -> -8754.87
A43: Первый зам. генерального директора - | L43: =I36-9777.22 -> -9777.22
A44: главный инженер | F44: С. В. Тюлевин

Sheet П.2.1.
G1: Таблица № П2.1 | I1: Общее количество у.е. | L1: 664.8388
A2: Система условных единиц для распределения | I2: Количество у.е. по ВН | L2: 295.27 | M2: 0.4441227
A3: общей суммы тарифной выручки по классам напряжения | I3: Количество у.е. по СН I | L3: 0 | M3: 0
A4: АО "РКЦ "Прогресс" | I4: Количество у.е. по СН II | L4: 338.5071 | M4: 0.50915666
A5: Объем воздушных линий электропередач (ВЛЭП) и кабельных линий электропередач (КЛЭП) | I5: Количество у.е. по НН | L5: 31.0617 | M5: 0.046720649
A6: в условных единицах в зависимости от протяженности, напряжения, конструктивного
A7: использования и материала опор. | L7: 664.8388 | M7: 829.967
A9: 2019 год | G9: на передачу сторонним потребителям (пром.площадка + ПСХ + ЛОЦ "Космос") | L9: 833 | M9: утв.2015
B10: Напряжение, кВ | C10: Количество цепей на опоре | D10: Материал опор | E10: Количество условных единиц (у) на 100 км трассы ЛЭП | F10: Протяженность | G10: Объем условных единиц
E11: у/100км | F11: км | G11: у
A12: 1 | B12: 2 | C12: 3 | D12: 4 | E12: 5 | F12: 6 | G12: 7 = 5 * 6 /100
A13: ВЛЭП | B13: 1150 | C13: - | D13: металл | E13: 800
B14: 750 | C14: 1 | D14: металл | E14: 600
B15: 400-500 | C15: 1 | D15: металл | E15: 400
D16: ж/бетон | E16: 300
B17: 330 | C17: 1 | D17: металл | E17: 230
D18: ж/бетон | E18: 170
C19: 2 | D19: металл | E19: 290
D20: ж/бетон | E20: 210
B21: 220 | C21: 1 | D21: дерево | E21: 260
D22: металл | E22: 210
D23: ж/бетон | E23: 140
C24: 2 | D24: металл | E24: 270 | F24: 0.1 | G24: 0.27
D25: ж/бетон | E25: 180
B26: 110-150 | C26: 1 | D26: дерево | E26: 180
D27: металл | E27: 160 | G27: 0
D28: ж/бетон | E28: 130
C29: 2 | D29: металл | E29: 190
D30: ж/бетон | E30: 160
A31: КЛЭП | B31: 220 | C31: - | D31: - | E31: 3000
B32: 110 | C32: - | D32: - | E32: 2300
A33: ВН, всего | G33: 0.27
A34: ВЛЭП | B34: 35 | C34: 1 | D34: дерево | E34: 170
D35: металл | E35: 140
D36: ж/бетон | E36: 120 | G36: 0
C37: 2 | D37: металл | E37: 180 | G37: 0
D38: ж/бетон | E38: 150
B39: 1 - 20 | C39: - | D39: дерево | E39: 160
D40: дерево на ж/б пасынках | E40: 140 | G40: 0
D41: ж/бетон, металл | E41: 110 | F41: 5.236 | G41: 5.7596 | J41: ПСХ
...

Sheet П.2.2.
G1: Таблица № П2.2
A2: Объем подстанций 35-1150 кВ, трансформаторных подстанций (ТП), комплексных трансформаторных подстанций (КТП) и распределительных пунктов(РП) 0,4-20 кВ в условных единицах
A3: АО "РКЦ "Прогресс"
A4: 2019 год | G4: на передачу сторонним потребителям (пром.площадка + ПСХ + ЛОЦ "Космос")
A5: п/п | B5: Наименование | C5: Единица измерения | D5: Напряжение, кВ | E5: Количество условных единиц (у) на единицу измерения | F5: Количество единиц измерения | G5: Объем условных единиц
E6: у/ед.изм. | F6: ед.изм. | G6: у
A7: 1 | B7: 2 | C7: 3 | D7: 4 | E7: 5 | F7: 6 | G7: 7=5*6
A8: 1 | B8: Подстанция | C8: П/ст | D8: 1150 | E8: 1000
D9: 750 | E9: 600
D10: 400 - 500 | E10: 500
D11: 330 | E11: 250 | J11: ЛОЦ | L11: ПСХ
D12: 220 | E12: 210 | F12: 1 | G12: 210 | I12: 1 | J12: 0 | K12: 0 | L12: 0
D13: 110 - 150 | E13: 105 | G13: 0 | J13: 0 | K13: 0 | L13: 0
D14: 35 | E14: 75 | G14: 0 | J14: 0 | K14: 0 | L14: 0
A15: 2 | B15: Силовой трансформатор или реактор (одно- или трехфазный), или вольтодобавочный трансформатор | C15: Единица оборудования | D15: 1150 | E15: 60 | J15: 0 | K15: 0 | L15: 0
D16: 750 | E16: 43 | J16: 0 | K16: 0 | L16: 0
D17: 400 - 500 | E17: 28 | J17: 0 | K17: 0 | L17: 0
D18: 330 | E18: 18 | J18: 0 | K18: 0 | L18: 0
D19: 220 | E19: 14 | F19: 2 | G19: 28 | I19: 2 | J19: 0 | K19: 0 | L19: 0
D20: 110 - 150 | E20: 7.8 | G20: 0 | J20: 0 | K20: 0 | L20: 0
D21: 35 | E21: 2.1 | G21: 0 | J21: 0 | K21: 0 | L21: 0
D22: 1 - 20 | E22: 1 | F22: 18 | G22: 18 | I22: 22 | J22: 0 | K22: -4 | L22: 0
A23: 3 | B23: Воздушный выключатель | C23: 3 фазы | D23: 1150 | E23: 180 | J23: 0 | K23: 0 | L23: 0
D24: 750 | E24: 130 | J24: 0 | K24: 0 | L24: 0
D25: 400 - 500 | E25: 88 | J25: 0 | K25: 0 | L25: 0
D26: 330 | E26: 66 | J26: 0 | K26: 0 | L26: 0
D27: 220 | E27: 43 | J27: 0 | K27: 0 | L27: 0
D28: 110 - 150 | E28: 26 | J28: 0 | K28: 0 | L28: 0
D29: 35 | E29: 11 | J29: 0 | K29: 0 | L29: 0
D30: 1 - 20 | E30: 5.5 | F30: 9 | G30: 49.5 | I30: 9 | J30: 0 | K30: 0 | L30: 0
A31: 4 | B31: Масляный выключатель | C31: - " - | D31: 220 | E31: 23 | J31: 0 | K31: 0 | L31: 0
D32: 110 - 150 | E32: 14 | G32: 0 | J32: 0 | K32: 0 | L32: 0
D33: 35 | E33: 6.4 | J33: 0 | K33: 0 | L33: 0
D34: 1 - 20 | E34: 3.1 | F34: 50 | G34: 155 | I34: 50 | J34: 0 | K34: 0 | L34: 0
A35: 5 | B35: Отделитель с короткозамыкателем | C35: Единица оборудования | D35: 400 - 500 | E35: 35 | I35: 0 | J35: 0 | K35: 0 | L35: 0
D36: 330 | E36: 24 | I36: 0 | J36: 0 | K36: 0 | L36: 0
D37: 220 | E37: 19 | F37: 3 | G37: 57 | H37: + | I37: 3 | J37: 0 | K37: 0 | L37: 0
D38: 110 - 150 | E38: 9.5 | G38: 0 | I38: 0 | J38: 0 | K38: 0 | L38: 0
D39: 35 | E39: 4.7 | G39: 0 | I39: 0 | J39: 0 | K39: 0 | L39: 0
A40: 6 | B40: Выключатель нагрузки | C40: - " - | D40: 1 - 20 | E40: 2.3 | F40: 5 | G40: 11.5 | I40: 5 | J40: 0 | K40: 0 | L40: 3
...

Sheet Баланс электрической энергии
L1: Таблица N П 1.4
A2: Баланс электрической энергии по сетям ВН, СН1, СН11 и НН
A3: АО "РКЦ "Прогресс"
B4: на передачу сторонним потребителям | L4: млн. кВт.ч
A5: п.п. | B5: Показатели | C5: Базовый период | H5: Период регулирования
C6: Всего | D6: ВН | E6: СН1 | F6: СН11 | G6: НН | H6: Всего | I6: ВН | J6: СН1 | K6: СН11 | L6: НН
A7: 1 | B7: 2 | C7: 3 | D7: 4 | E7: 5 | F7: 6 | G7: 7 | H7: 8 | I7: 9 | J7: 10 | K7: 11 | L7: 12
A8: 1. | B8: Поступление эл. энергии в сеть, ВСЕГО | C8: 20.151499 | D8: 19.513895 | E8: 0.547862 | F8: 5.5451336 | G8: 0.402924 | H8: 20.72621 | I8: 20.146103 | J8: 0.453907 | K8: 6.0519928 | L8: 0.44639633
A9: 1.1. | B9: из смежной сети, всего | D9: 0 | E9: 0 | F9: 5.4553916 | G9: 0.402924 | J9: 0 | K9: 5.9257928 | L9: 0.44639633
B10: в том числе из сети
B11: ВН | C11: 4.9075296 | E11: 0 | F11: 4.9075296 | H11: 5.4718858 | J11: 0 | K11: 5.4718858
B12: СН1 | C12: 0.547862 | F12: 0.547862 | H12: 0.453907 | K12: 0.453907
B13: СН11 | C13: 0.402924 | G13: 0.402924 | H13: 0.44639633 | L13: 0.44639633
A14: 1.2. | B14: от ПАО "ФСК ЕЭС" | C14: 19.513895 | D14: 19.513895 | H14: 20.146103 | I14: 20.146103
A15: 1.3. | B15: от АО "Самаранефтегаз" | C15: 0.547862 | E15: 0.547862 | H15: 0.453907 | J15: 0.453907
A16: 1.4. | B16: ПАО "МРСК Волги" | C16: 0.033802 | F16: 0.033802 | H16: 0.0686 | K16: 0.0686
A17: 1.5. | B17: ООО "Энергобытобслуживание" | C17: 0.05594 | F17: 0.05594 | H17: 0.0576 | K17: 0.0576
A18: 1.6. | B18: поступление эл.энергии от других организаций | C18: 0 | H18: 0
A19: 2. | B19: Потери электроэнергии в сети | C19: 1.4106049 | D19: 0.6361983 | E19: 0 | F19: 0.7404826 | G19: 0.033924 | H19: 1.452907 | I19: 0.50105766 | J19: 0 | K19: 0.92055734 | L19: 0.031292
B20: то же в % (п. 2/п. 1) | C20: 6.9999999 | D20: 3.2602323 | E20: 0 | F20: 13.353738 | G20: 8.4194538 | H20: 7.0099983 | I20: 2.4871195 | J20: 0 | K20: 15.210814 | L20: 7.0099142
A21: 3. | B21: Расход электроэнергии на производственные | C21: 0 | G21: 0 | H21: -2.4424907e-15 | L21: -2.4424907e-15
B22: и хозяйственные нужды
A23: 4. | B23: Полезный отпуск из сети | C23: 18.740894 | D23: 13.970167 | E23: 0 | F23: 4.401727 | G23: 0.369 | H23: 19.273303 | I23: 14.17316 | J23: 0 | K23: 4.6850391 | L23: 0.41510433
A24: 4.1. | B24: в т.ч.собственным потребителям ЭСО, из них: | C24: 0 | F24: 0 | G24: 0 | H24: 0 | K24: 0
B25: потребителям, присоединенным к центру питания на генераторном напряжении
A26: 4.2. | B26: потребителям оптового
B27: рынка
A28: 4.3. | B28: сальдо переток в другие | C28: 18.740894 | D28: 13.970167 | E28: 0 | F28: 4.401727 | G28: 0.369 | H28: 19.273303 | I28: 14.17316 | J28: 0 | K28: 4.6850391 | L28: 0.41510433
B29: организации

Sheet Баланс электрической мощности
L1: Таблица N П 1.5
A2: Баланс электрической мощности по сетям ВН, СН1, СН11 и НН
A3: АО "РКЦ "Прогресс"
B4: на передачу сторонним потребителям | L4: МВт
A5: п.п. | B5: Показатели | C5: Базовый период | H5: Период регулирования
C6: Всего | D6: ВН | E6: СН1 | F6: СН11 | G6: НН | H6: Всего | I6: ВН | J6: СН1 | K6: СН11 | L6: НН
A7: 1 | B7: 2 | C7: 3 | D7: 4 | E7: 5 | F7: 6 | G7: 7 | H7: 8 | I7: 9 | J7: 10 | K7: 11 | L7: 12
A8: 1. | B8: Поступление мощности в сеть, ВСЕГО | C8: 1.96998 | D8: 1.893 | E8: 0.06265 | F8: 0.67416 | G8: 0.05816 | H8: 2.8220464 | I8: 2.7554464 | J8: 0.052 | K8: 0.84554642 | L8: 0.079455311
A9: 1.1. | B9: из смежной сети | E9: 0 | F9: 0.65983 | G9: 0.05816 | J9: 0 | K9: 0.83094642 | L9: 0.079455311
B10: в т.ч. из ВН | E10: 0 | F10: 0.59718 | J10: 0 | K10: 0.77894642
B11: СН I | C11: 0.06265 | F11: 0.06265 | H11: 0.052 | K11: 0.052
B12: СН II | C12: 0.05816 | G12: 0.05816 | H12: 0.079455311 | L12: 0.079455311
A13: 1.2. | B13: от ПАО "ФСК ЕЭС" | C13: 1.893 | D13: 1.893 | H13: 2.7554464 | I13: 2.7554464
A14: 1.3. | B14: от АО "Самаранефтегаз" | C14: 0.06265 | E14: 0.06265 | H14: 0.052 | J14: 0.052
A15: 1.4. | B15: ПАО "МРСК Волги" | C15: 0.005 | F15: 0.005 | H15: 0.005 | K15: 0.005
A16: 1.5. | B16: ООО "Энергобытобслуживание" | C16: 0.00933 | F16: 0.00933 | H16: 0.0096 | K16: 0.0096
A17: 1.6. | B17: от других организаций
A18: 2. | B18: Потери в сети | C18: 0.1379 | D18: 0.06219 | E18: 0 | F18: 0.07239 | G18: 0.00332 | H18: 0.19783 | I18: 0.0675 | J18: 0 | K18: 0.12476 | L18: 0.00557
B19: то же в % | C19: 7.0000711 | D19: 3.0852615 | E19: 0 | F19: 13.967807 | G19: 6.9983906 | H19: 7.0101611 | I19: 2.4896938 | J19: 0 | K19: 15.214956 | L19: 7.0102299
A20: 3. | B20: Мощность на производственные | C20: 0 | H20: 0 | L20: 0
B21: и хозяйственные нужды
A22: 4. | B22: Полезный отпуск мощности | C22: 1.83208 | D22: 1.23363 | E22: 0 | F22: 0.54361 | G22: 0.05484 | H22: 2.6242164 | I22: 1.909 | J22: 0 | K22: 0.64133111 | L22: 0.073885311
B23: потребителям
A24: 4.1. | B24: в т.ч. заявленная (расчетная) мощность собственных потребителей, пользующихся региональными электрическими сетями | C24: 0 | D24: 0 | E24: 0 | F24: 0 | G24: 0 | H24: 0 | I24: 0 | J24: 0 | K24: 0 | L24: 0
A25: 4.2. | B25: заявленная (расчетная)
B26: мощность потребителей
B27: оптового рынка
A28: 4.3. | B28: в другие организации | C28: 1.83208 | D28: 1.23363 | E28: 0 | F28: 0.54361 | G28: 0.05484 | H28: 2.6242164 | I28: 1.909 | J28: 0 | K28: 0.64133111 | L28: 0.073885311

Sheet НВВ на содержание 2012г.
G1: Форма № 5
C2: к приложению № 1 приказа Министерства энергетики и жилищно-коммунального хозяйства Самарской области от "___" _________2011 года № ___
A3: Отчет о доходах и расходах территориальной сетевой организации, регулирование тарифов на услуги которой осуществляется на основе долгосрочных параметров регулирования деятельности за 2012 год
A5: ФГУП ГНПРКЦ «ЦСКБ-Прогресс»
A6: Сроки предоставления: ежеквартальная - до 30 апреля, 30 июля и 30 октября. Годовая - до 1 апреля.
B7: форма заполняется нарастающим итогом | F7: тыс. руб.
A8: №п/п | B8: Показатель | C8: Ед.изм. | D8: Утверждено на 2012г. | E8: Фактические показатели | G8: Процент превышения (2012факт. без учета собственного потребления)/ (утверждено на 2012г.)
E9: с учетом собственного потребления | F9: без учета собственного потребления
A10: 1 | B10: 2 | C10: 3 | D10: 4 | E10: 5 | F10: 6 | G10: 7 = 6/4
A11: 1 | B11: НВВ сетевой организации ВСЕГО (без учета расходов на оплату услуг территориальных сетевых организаций, расходов на оплату потерь электроэнергии) | C11: тыс.руб. | D11: =D12+D38+D52 -> #REF! | E11: =E12+E38+E52 -> 102471.29 | F11: =F12+F38+F52 -> 13274.454 | G11: =F11/D11 -> #REF! | J11: ='орг. Корр-ка НВВ 2014г.'!F71 -> #REF!
A12: 1.1. | B12: Подконтрольные расходы | C12: тыс.руб. | D12: =D13+D16+D19+D33 -> 1658.6655 | E12: =E13+E16+E19+E33 -> 95498.112 | F12: =F13+F16+F19+F33 -> 12309.15 | G12: =F12/D12 -> 7.4211167 | I12: ='орг. Корр-ка НВВ 2014г.'!F45 -> 1658.6925
A13: 1.1.1. | B13: Материальные затраты | C13: тыс.руб. | D13: ='орг. Корр-ка НВВ 2014г.'!F25 -> 285.558 | E13: =E14+E15 -> 52019 | F13: =F14+F15 -> 7201.0355 | G13: =F13/D13 -> 25.217418
A14: 1.1.1.1. | B14: Сырье, материалы, запасные части, инструмент, топливо | C14: тыс.руб. | E14: 14814 | F14: =E14*($E$78+$E$77+$E$75)/$E$70 -> 2050.7149
A15: 1.1.1.2. | B15: Работы и услуги производственного характера (в т.ч. услуги сторонних организаций по содержанию сетей и распределительных устройств) | C15: тыс.руб. | D15: 285.6 | E15: 37205 | F15: =E15*($E$78+$E$77+$E$75)/$E$70 -> 5150.3206 | G15: =F15/D15 -> 18.033335
A16: 1.1.2. | B16: Расходы на оплату труда | C16: тыс.руб. | D16: ='орг. Корр-ка НВВ 2014г.'!F26 -> 1262.0075 | E16: 33521.112 | F16: =E16*($E$78+$E$77+$E$75)/$E$70 -> 4640.3568 | G16: =F16/D16 -> 3.6769645
A17: 1.1.2.1. | B17: численность персонала | C17: чел. | D17: 13 | E17: 111 | F17: =E17*($E$78+$E$77+$E$75)/$E$70 -> 15.365827 | G17: =F17/D17 -> 1.1819867
A18: 1.1.2.2. | B18: среднемесячная заработная плата | C18: руб. | D18: =D16*1000/12/D17 -> 8089.7917 | E18: =E16*1000/12/E17 -> 25166 | F18: =F16*1000/12/F17 -> 25166 | I18: 25166 | J18: 3483.7513
A19: 1.1.3. | B19: Прочие расходы, всего, в том числе: | C19: тыс.руб. | D19: =SUM(D20:D32) -> 52.3 | E19: 9958 | F19: =F20+F21 -> 467.75792 | G19: =F19/D19 -> 8.943746
A20: 1.1.3.1. | B20: Ремонт основных фондов | C20: тыс.руб. | E20: 3379 | F20: =E20*($E$78+$E$77+$E$75)/$E$70 -> 467.75792
A21: 1.1.3.2. | B21: Оплата работ и услуг сторонних организаций | C21: тыс.руб. | E21: 6567 | F21: =F22+F23+F24+F25+F26+F27 -> 0
A22: 1.1.3.2.1. | B22: услуги связи | C22: тыс.руб. | F22: =E22*($E$78+$E$77+$E$75)/$E$70 -> 0
A23: 1.1.3.2.2. | B23: Расходы на услуги вневедомственной охраны и коммунального хозяйства | C23: тыс.руб. | F23: =E23*($E$78+$E$77+$E$75)/$E$70 -> 0
A24: 1.1.3.2.3. | B24: Расходы на юридические и информационные услуги | C24: тыс.руб. | F24: =E24*($E$78+$E$77+$E$75)/$E$70 -> 0
A25: 1.1.3.2.4. | B25: Расходы на аудиторские и консультационные услуги | C25: тыс.руб. | F25: =E25*($E$78+$E$77+$E$75)/$E$70 -> 0
A26: 1.1.3.2.5. | B26: Транспортные услуги | C26: тыс.руб. | F26: =E26*($E$78+$E$77+$E$75)/$E$70 -> 0
A27: 1.1.3.2.6. | B27: Прочие услуги сторонних организаций | C27: тыс.руб. | F27: =E27*($E$78+$E$77+$E$75)/$E$70 -> 0
A28: 1.1.3.3. | B28: Расходы на командировки и представительские | C28: тыс.руб. | F28: =E28*($E$78+$E$77+$E$75)/$E$70 -> 0
A29: 1.1.3.4. | B29: Расходы на подготовку кадров | C29: тыс.руб. | F29: =E29*($E$78+$E$77+$E$75)/$E$70 -> 0
A30: 1.1.3.5. | B30: Расходы на обеспечение нормальных условий труда и мер по технике безопасности | C30: тыс.руб. | F30: =E30*($E$78+$E$77+$E$75)/$E$70 -> 0
A31: 1.1.3.6. | B31: Расходы на страхование | C31: тыс.руб. | F31: =E31*($E$78+$E$77+$E$75)/$E$70 -> 0
A32: 1.1.3.7. | B32: Другие прочие расходы | C32: тыс.руб. | D32: ='орг. Корр-ка НВВ 2014г.'!F40 -> 52.3 | F32: =E32*($E$78+$E$77+$E$75)/$E$70 -> 0
A33: 1.1.4. | B33: Расходы из прибыли, в т.ч.: | C33: тыс.руб. | D33: 58.8 | E33: =E34+E35+E36 -> 0 | F33: =F34+F35+F36 -> 0
A34: 1.1.4.1. | B34: расходы на обслуживание заемных средств | C34: тыс.руб. | F34: =E34*($E$78+$E$77+$E$75)/$E$70 -> 0
A35: 1.1.4.2. | B35: расходы по коллективным договорам | C35: тыс.руб. | D35: ='орг. Корр-ка НВВ 2014г.'!F43 -> 58.82704 | F35: =E35*($E$78+$E$77+$E$75)/$E$70 -> 0
A36: 1.1.4.3. | B36: прочие расходы из прибыли | C36: тыс.руб. | F36: =E36*($E$78+$E$77+$E$75)/$E$70 -> 0
A38: 1.2. | B38: Неподконтрольные расходы | C38: тыс.руб. | D38: =D39+D40+D41+D42+D43+D47+D48+D49+D50+D51 -> #REF! | E38: =E39+E40+E41+E42+E43+E47+E48+E49+E50+E51+E52 -> 6973.183 | F38: =F39+F40+F41+F42+F43+F47+F48+F49+F50+F51+F52 -> 965.30381 | G38: =F38/D38 -> #REF! | I38: ='орг. Корр-ка НВВ 2014г.'!F62 -> #REF!
A39: 1.2.1. | B39: Оплата услуг ОАО "ФСК ЕЭС" | C39: тыс.руб. | F39: =E39*($E$78+$E$77+$E$75)/$E$70 -> 0
A40: 1.2.2. | B40: Электроэнергия на хоз. нужды | C40: тыс.руб. | F40: =E40*($E$78+$E$77+$E$75)/$E$70 -> 0
A41: 1.2.3. | B41: Теплоэнергия | C41: тыс.руб. | F41: =E41*($E$78+$E$77+$E$75)/$E$70 -> 0
A42: 1.2.4. | B42: Плата за аренду имущества и лизинг | C42: тыс.руб. | F42: =E42*($E$78+$E$77+$E$75)/$E$70 -> 0
...

Sheet Реестр всп.мат.2010 пром.+ПСХ
A1: Реестр документов, подтверждающих поступление электротехнических материалов на обслуживание и ремонт оборудования участка электроснабжения потребителей ФГУП «ГНПРКЦ «ЦСКБ-Прогресс» 2010 г.
G2: на передачу сторонним потребителям
A3: № | B3: Поставщик | C3: Дата | D3: Счет-фактура | E3: Сумма, руб. с НДС | F3: Дата | G3: Платежное поручение | H3: Сумма, руб. с НДС
A4: Цех 2426
A5: 2010 год
A6: 1. | B6: ООО "ЭТК "Содействие" | C6: 31.05.10 | D6: № КЭТ 0003024 | E6: 15336.65 | F6: 28.05.10 | G6: № 10745 | H6: 15336.65
A7: 2. | D7: № КЭТ 0003011 | E7: 6420.78
A8: 3. | D8: № КЭТ 0002999 | E8: 2923.33 | F8: 28.05.10 | G8: № 10804 | H8: 2923.33 | I8: =SUM(E7:E8) -> 9344.11
A9: 4. | C9: 21.06.10 | D9: № КЭТ 0003399 | E9: 15402.52 | F9: 10.06.10 | G9: № 12009 | H9: 104720.99
A10: 5. | D10: № КЭТ 0003411 | E10: 2552.58 | F10: 10.06.10 | G10: № 12032 | H10: 2552.58 | I10: =SUM(E9:E10) -> 17955.1
A11: 6. | D11: № КЭТ 0003397 | E11: 126885.02
A12: 7. | D12: № КЭТ 0003443 | E12: 23553.91 | I12: =SUM(E11:E12) -> 150438.93
A13: 8. | D13: № КЭТ 0003442 | E13: 82142.09 | F13: 10.06.10 | G13: № 12001 | H13: 150438.93
A14: 9. | D14: № КЭТ 0003432 | E14: 3736.47
A15: 10. | C15: 02.07.10 | D15: № КЭТ 0003663 | E15: 2541.72 | I15: =SUM(E13:E15) -> 88420.28 | J15: =H13-I15 -> 62018.65
A16: 11. | D16: № КЭТ 0003654 | E16: 3818.13 | F16: 13.07.10 | G16: № 14959 | H16: 106235.18
A17: 12. | D17: № КЭТ 0003655 | E17: 18842.43 | F17: 13.07.10 | G17: № 14954 | H17: 78349.75
A18: 13. | C18: 20.07.10 | D18: № КЭТ 0003963 | E18: 106235.18 | F18: 13.07.10 | G18: № 14933 | H18: 201596.97
A19: 14. | D19: № КЭТ 0003956 | E19: 5437.44 | I19: =SUM(E18:E19) -> 111672.62
A20: 12. | D20: № КЭТ 0003964 | E20: 78349.75
A21: 13. | C21: 24.09.10 | D21: № КЭТ 0004933 | E21: 17121.51 | F21: 17.09.2010 | G21: № 20618 | H21: 17121.51
A22: 14. | B22: ООО "Раскат" | C22: 19.07.10 | D22: № 42 | E22: 201596.97 | I22: =SUM(E18:E22) -> 408740.85
I23: =SUM(E19:E23) -> 302505.67
I24: =SUM(E20:E24) -> 297068.23
I25: =SUM(E21:E25) -> 218718.48
A26: Итого | E26: =SUM(E6:E25) -> 712896.48 | H26: =SUM(H6:H25) -> 679275.89 | J26: 679275.89
A27: По цеху 2426
A28: Затраты на электротехнические материалы в расчет тарифов на 2011 г. взяты с Кинд.к 2010г. 1,079 и составят: | J28: =#REF!/1.18/9*12/1000 -> #REF!
C29: 679 275,89 /1,18 /1000 х 1,079= | D29: =$H$26/1000/1.18*1.079 -> 621.13448 | E29: тыс.руб. без НДС
A30: На 2012 г. затраты по статье "вспомогательные материалы" проиндексированы на Кинд.к 2011г. = 1,06
B31: и составят = 621,1 х 1,06 = | C31: =D29*1.079 -> 670.2041 | D31: тыс.руб.
A33: № | B33: Поставщик | C33: Дата | D33: Счет-фактура | E33: Сумма, руб. с НДС | F33: Дата | G33: Платежное поручение | H33: Сумма, руб. с НДС
A34: Цех 2496 (подсобное хозяйство)
A35: 2010 год
A36: 1. | B36: ООО "Техкомплектсервис" | C36: 04.02.10 | D36: № Тк0014 | E36: 15642.8 | F36: 03.02.2010 | G36: 68 | H36: 37678.5
A37: 2. | C37: 08.02.10 | D37: № Тк0019 | E37: 20392.5 | F37: 12.02.2010 | G37: 98 | H37: 3180 | J37: =SUM(E36:E37) -> 36035.3 | K37: =SUM(H36:H37) -> 40858.5
A38: 3. | C38: 26.02.10 | D38: № Тк0038 | E38: 24197 | F38: 19.02.2010 | G38: 119 | H38: 24197
A39: 4. | C39: 01.03.10 | D39: № Тк0039 | E39: 6850 | F39: 30.03.2010 | G39: 231 | H39: 6850
A40: 5. | C40: 18.03.10 | D40: № Тк0054 | E40: 78415.88 | F40: 15.03.2010 | G40: 196 | H40: 86085.88
A41: 6. | C41: 18.03.10 | D41: № Тк0055 | E41: 7670 | J41: =SUM(E40:E41) -> 86085.88 | K41: =SUM(H40) -> 86085.88
...

Sheet Реестр вспомог.мат.2011 ПСХ
A1: Реестр документов, подтверждающих поступление электротехнических материалов на обслуживание и ремонт оборудования участка электроснабжения потребителей ФГУП «ГНПРКЦ «ЦСКБ-Прогресс» за 1 полугодие 2011 г.
G2: на передачу сторонним потребителям
A3: № | B3: Поставщик | C3: Дата | D3: Счет-фактура | E3: Сумма, руб. с НДС | F3: Дата | G3: Платежное поручение | H3: Сумма, руб. с НДС
A4: Цех 2496 (подсобное хозяйство)
A5: 1 полугодие 2011 г.
A6: 1. | B6: ООО "Торговый дом техноград" | F6: 10.06.2011 | G6: 256 | H6: 5952
A7: 2. | B7: ООО "Техкомплектсервис" | C7: 11.01.11 | D7: № Тк0001 | E7: 5697 | F7: 25.03.2011 | G7: 112 | H7: 2490
A8: 3. | F8: 31.05.2011 | G8: 235 | H8: 5658.1
A9: 4. | F9: 15.06.2011 | G9: 262 | H9: 5522.4
A10: 5. | F10: 17.06.2011 | G10: 287 | H10: 8968
A11: 6. | F11: 24.06.2011 | G11: 302 | H11: 18874.1
A12: 7.
A13: 8.
A14: 9.
A15: 10.
A16: 11.
A17: 12.
A18: 13.
A19: 16.
A20: 17. | B20: ООО "Техкомплектсервис"
A21: 18.
A22: 19.
A23: 20.
A24: 21. | B24: ООО "ЭТМ"
A25: 22. | B25: ООО "Техкомплектсервис"
A26: 23.
A27: 24.
A28: 25.
A29: 26.
A30: 27.
A31: 28.
A44: Итого | E44: =SUM(E7:E43) -> 5697 | H44: =SUM(H7:H43) -> 41512.6
A47: Исполнитель
A48: Харитонова Л. С.

Sheet Работы и услуги 2011г.
A1: Работы и услуги производственного характера
A2: по участку электроснабжения ФГУП «ГНПРКЦ «ЦСКБ-Прогресс» 2011 г.
D3: на передачу сторонним потребителям | E3: без НДС
A4: № | B4: Наименование работ и услуг | C4: Исполнитель | D4: Обосновывающий документ | E4: 2011 г.
E5: тыс.руб.
A6: Услуги сторонних организаций
A7: 1 | I7: =(71.4+71+40+30)/1.18 -> 180
F9: =SUM(E7:E9) -> 0
A10: 1 | B10: ='РСЭО 2012г.'!B25 -> Ежегодное медицинское освидетельствование электротехнического персонала | E10: =273*1.079-158.9 -> 135.667
A11: 2 | B11: Расходы на стандарты раскрытия информации организации, осуществляющей регулируемые виды деятельности (публикация в газете Волжская коммуна бухгалтерской отчетности) | E11: 30
A12: 3 | B12: Обучение (повышение квалификации по направлению «Электроэнергетика» , проведение предэкзаменационной подготовки электротехнического персонала ) | C12: НОУ «ЦДО «Промэнерго- безопасность» | D12: Счета на оплату от 20.05.2013 г., от 24.06.2013 г.,от 15.11.2013 г. | E12: =1.7+3.4+1.7 -> 6.8 | F12: =8+5.1+1.7+35.7+1.7 -> 52.2 | G12: по плат.
A13: 4 | B13: Экспертиза технологических потерь электрической энергии | C13: ООО "СамараЭСКО" | D13: Дог. № 95/11 от 25.01.2011 г. | E13: =59-9 -> 50
A14: 5 | B14: Организация информационного взаимодействия с органом исполнительной власти субъекта РФ в области государственного регулирования тарифов в рамках функционирования ЕАИС ФСТ | D14: Дог. № 21/11 от 14.01.2011 г. | E14: =17-2.59321 -> 14.40679
A15: 6 | B15: Расчет НВВ на 2012 г., обеспечивающей компенсацию экономически обоснованных расходов на осуществление деятельности по передаче электрической энергии | C15: ООО "СамараЭСКО" | D15: Дог. № 94/11 от 25.01.2011 г. | E15: =70-10.67796 -> 59.32204
B16: Итого услуги | E16: =SUM(E7:E15) -> 296.19583
B17: Итого ремонт п.1 | E17: =SUM(E7:E9) -> 0
A18: Вспомогательные материалы при выполнении работ по ремонту и техническому обслуживанию
A19: 4 | B19: Электротехнические материалы | C19: хоз.способ | D19: счета-фактуры, платежные поручения), расшифровка материальных затрат за 9мес.10 г. (стр.___ дела) | E19: ='Реестр всп.мат.2010 пром.+ПСХ'!E93 -> 709.02862
B20: Итого вспомогательные материалы | E20: =E19 -> 709.02862
B21: ИТОГО | E21: =E16+E20 -> 1005.2244
A24: Примечание:
A25: Затраты по п.1 и п.3 рассчитаны на численность ППП по участку передачи эл.энергии сторонним потребителям - 15 чел.
A27: Исполнитель
A28: Харитонова Л. С.

Sheet РСЭО 2012г.
A1: Расходы по содержанию и эксплуатации оборудования
A2: по участку электроснабжения ФГУП «ГНПРКЦ «ЦСКБ-Прогресс» на 2012 г.
A4: уточненные электротехнические материалы - с учетом участка ПСХ (п.7)
D5: на передачу сторонним потребителям | E5: без НДС
A6: № | B6: Наименование | C6: Исполнитель | D6: Обосновывающий документ | E6: 2012 г.
E7: тыс.руб.
A8: Услуги сторонних организаций
A9: 1. | B9: Ремонтно-строительные работы на ТП | C9: хоз.способ (строительное подразделение) | D9: 2011г. с Кинд.на 2012г.=1,06 | E9: =E10+E18 -> 0
A10: 1.1. | B10: ТП-212 | E10: =SUM(E12:E17) -> 0
B11: материалы на ремонт + зарплата рабочих строительного подразделения
A12: 1.1.1. | B12: Ремонт крыши 42 кв.м
A13: 1.1.2. | B13: Замена 3-х дверей на металлические
A14: 1.1.3. | B14: Ремонт пола 42,0 кв.м
A15: 1.1.4. | B15: Ремонт стен внутри подстанции 138 кв.м
A16: 1.1.5. | B16: Приобретение и монтаж ячеек КРУ-2-10 в кол-ве 6 шт.
A17: 1.1.6. | B17: Обустройство вентиляции
A18: 1.2. | B18: ТП-3 | E18: =SUM(E20:E22) -> 0
B19: материалы на ремонт + зарплата рабочих строительного подразделения
A20: 1.2.1. | B20: Ремонт пола (бетонирование) 40 кв.м
A21: 1.2.2. | B21: Покраска дверей - 4 шт.
A22: 1.2.3. | B22: Приобретение и монтаж ячеек КРУ-2-10
A23: 2. | B23: Проверка сопротивления изоляции кабельных сетей | C23: сторонние организации
A24: 1 | B24: Обучение специалистов правилам и нормам безопасной эксплуатации электроустановок | E24: ='Работы и услуги 2011г.'!E12*1.06 -> 7.208
A25: 2 | B25: Ежегодное медицинское освидетельствование электротехнического персонала | E25: ='Работы и услуги 2011г.'!E10*1.06 -> 143.80702 | H25: =SUM(E23:E25)+E9 -> 151.01502
A26: 5. | B26: Приобретение и монтаж резервного трансформатора ТМ-250 6/0,4 на ТП-203 | I26: =(71.4+71+40+30)/1.18 -> 180
A27: 6. | B27: Ремонт и обслуживание злектрических сетей (90,0тыс.руб.)
A28: 3 | B28: Экспертиза технологических потерь электрической энергии, расчет и обоснование тарифов на услуги по передаче электроэнергии , ЕИАС | C28: ООО "СамараЭСКО" | E28: ='Работы и услуги 2011г.'!E13+'Работы и услуги 2011г.'!E14+'Работы и услуги 2011г.'!E15 -> 123.72883
A29: 4 | B29: Расходы на стандарты раскрытия информации организации, осуществляющей регулируемые виды деятельности (публикация в газете Волжская коммуна бухгалтерской отчетности) | C29: сторонняя организация | D29: Постановление правительства РФ от 30.12.2009г. № 1140 | E29: ='Работы и услуги 2011г.'!E11 -> 30
B30: Итого услуги | E30: =SUM(E23:E29)+E9 -> 304.74385
B31: Итого ремонт п.1 | E31: =E9+E27 -> 0
A32: Вспомогательные материалы
A33: 5 | B33: Обеспечение огнетушителями, средствами электрозащиты, медицинскими аптечками и т.д. (противоаварийные и противопожарные мероприятия) | C33: сторонние организации | E33: =8+4.5+7.5+12 -> 32
A34: 6 | B34: Расходы на приобретение спецодежды | E34: =ROUND((50.2958970767035),1) -> 50.3 | H34: 50.295897
A35: 7 | B35: Расходы на приобретение инструмента и инвентаря электрохозяйственного назначения (бокорезы, отвертки, пассатижы, круглогубцы, вольтметры)
A36: 8 | B36: Расходы на трансформаторное масло | G36: =SUM(E33:E37) -> 82.3
A37: 9 | B37: Вспомогательные материалы для проведения профилактических работ на ТП
A38: 7 | B38: Электротехнические материалы (ремонт и обслуживание злектрических сетей и ТП) | C38: хоз.способ | D38: по факту 2010 г. с учетом Кинд.к 2011г.= 1,079 и Кинд.к 2012г.=1,06 | E38: ='Реестр всп.мат.2010 пром.+ПСХ'!E94 -> 763.37189 | H38: =710.2-'Реестр всп.мат.2010 пром.+ПСХ'!C89 -> 617.03222
B39: Итого вспомогательные материалы | E39: =SUM(E33:E38) -> 845.67189
B40: ИТОГО | E40: =E30+E39 -> 1150.4157 | G40: =1115-90+E38 -> 1788.3719 | H40: 1087.2642 | I40: 1180.5156
I41: =E40-H40 -> 63.151539
...

Sheet Распред.приб. на соц.разв.2011
A1: Прибыль на социальное развитие, оздоровление и отдых
A2: по участку передачи электрической энергии
A3: ФГУП «ГНПРКЦ «ЦСКБ-Прогресс»
A6: № | B6: Статьи затрат | C6: План 2011 г., тыс. руб
A9: 1 | B9: Расходы социального характера - выплаты и льготы работникам (премии к праздничным датами, поощрения к юбилеям, прочие премии из прибыли) | C9: =5*5 -> 25
A10: 2 | B10: Материальная помощь (к отпуску, по заявлениям и т.д.) | C10: =5*5 -> 25
A11: 3 | B11: Лечение и оздоровление работников и членов семей работников | C11: =2*20 -> 40
A12: 4 | B12: Организация культмассовых мероприятий (приобретение детских новогодних подарков, проведение праздников и др.) | C12: =2*1+3*5 -> 17
A13: 5
B14: Итого | C14: =SUM(C9:C13) -> 107
E16: 2009г. | G16: 9 мес.2010 г. | H16: 2010 г.
E17: =552.6 -> 552.6 | F17: т.р. | G17: 320
E18: =E17/242 -> 2.2834711 | F18: на 1-ого раб. | G18: =320/227 -> 1.4096916 | H18: =G18/9*12 -> 1.8795888
A20: Первый зам. генерального директора -
A21: главный инженер | C21: С. В. Тюлевин
A26: Главный бухгалтер | C26: Дедюрина Н.В.

Sheet П 1.17 цех.
D1: Таблица N П1.17
A3: Расчет амортизационных отчислений
A4: на восстановление основных производственных фондов
A5: общецехового назначения энергохозяйства ФГУП «ГНПРКЦ «ЦСКБ-Прогресс»
D7: тыс. руб.
A8: п/п | B8: Показатели | C8: Базовый период | D8: Период регулирования
A9: 1. | B9: Первоначальная стоимость основных производственных фондов на начало периода регулирования
A10: 2. | B10: Балансовая (остаточная) стоимость основных производственных фондов на начало периода регулирования
A11: 3. | B11: Ввод основных производственных фондов
A12: 4. | B12: Выбытие основных производственных фондов
A13: 5. | B13: Средняя за отчетный период стоимость основных производственных фондов
A14: 6. | B14: Средняя норма амортизации
A15: 7. | B15: Сумма амортизационных отчислений | C15: ='Амортизация цех10г. - 11г.'!K7*'Амортизация цех10г. - 11г.'!I13/1000 -> 0 | D15: =C15 -> 0
A18: Первый зам. генерального директора -
A19: главный инженер | D19: С. В. Тюлевин
B43: Исполнитель
B44: Харитонова Л. С.

Sheet Амортизация цех10г. - 11г.
A1: Расчет амортизационных отчислений
A2: общецехового назначения энергохозяйства ОАО «1253 ЦРБРЛВ»
A3: 2010 г. - 2011 г.
H4: скрыть | L4: руб.
A5: Наименование | B5: Инв. № | C5: г.вв. | D5: Балансовая стоимость | E5: Остаточная стоимость на 01.01.10г. | F5: Ввод октябрь 2010 г. | G5: Амортиза- ция за январь 2010г. | H5: Остаточная стоимость на 01.11.10г. | I5: Амортиза- ция за 2010год, руб. | J5: Остаточная стоимость на 01.01.11г. | K5: Амортиза- ция за 2011год, руб. | L5: Остаточная стоимость на 01.01.12г. | M5: Норма аморти- зации 2011г., %
A6: Здание № 20 (энергомеханический участок) | B6: 100020 | C6: 1957 | H6: =E6-G6*10 -> 0 | I6: =G6*12 -> 0 | J6: =E6+F6-I6 -> 0 | K6: =I6 -> 0 | L6: =J6-K6 -> 0 | M6: =K6/D6*100 -> #DIV/0!
A7: Итого | D7: =D6 -> 0 | E7: =E6 -> 0 | F7: =F6 -> 0 | G7: =G6 -> 0 | H7: =H6 -> 0 | I7: =I6 -> 0 | J7: =J6 -> 0 | K7: =K6 -> 0 | ... M7: =M6 -> #DIV/0!
A9: Амортизация общецехового назначения энергохозяйства распределена на участок передачи электроэнергии пропорционально основной зарплате рабочих службы ЭМО.
A10: Согласно предоставленному штатному расписанию службы энергомеханического обеспечения
A11: тарифная ставка (оклад) в месяц производственных рабочих участка энергоснабжения (4 чел.) - 30 070,00 руб.,
A12: тарифная ставка (оклад) в месяц всех рабочих службы ЭМО (15,5 чел.) - 98 604,60 руб.
G13: Доля на участок передачи электроэнергии составит Д = 30 070,00 руб. / 98 604,60 тыс.руб. = | I13: =30070/98604.6 -> 0.30495535
A14: Амортизационные отчисления общецехового назначения энергохозяйства ОАО «1253 ЦРБРЛВ» на участок электроснабжения составят - | L14: =K7/1000*I13 -> 0 | N14: тыс.руб.
A15: (7 078,20 руб. / 1000 х 30,50% = 2,2 тыс.руб.)
A17: Исполнитель
A18: Харитонова Л. С.

Sheet П 1.17 ОХР
D1: Таблица N П1.17
A3: Расчет амортизационных отчислений
A4: на восстановление основных производственных фондов
A5: общезаводского назначения ФГУП «ГНПРКЦ «ЦСКБ-Прогресс»
D7: тыс. руб.
A8: п/п | B8: Показатели | C8: Базовый период | D8: Период регулирования
A9: 1. | B9: Первоначальная стоимость основных производственных фондов на начало периода регулирования
A10: 2. | B10: Балансовая (остаточная) стоимость основных производственных фондов на начало периода регулирования
A11: 3. | B11: Ввод основных производственных фондов
A12: 4. | B12: Выбытие основных производственных фондов
A13: 5. | B13: Средняя за отчетный период стоимость основных производственных фондов
A14: 6. | B14: Средняя норма амортизации
A15: 7. | B15: Сумма амортизационных отчислений | C15: =#REF! -> #REF! | D15: =#REF! -> #REF!
A22: Первый зам. генерального директора -
A23: главный инженер | D23: С. В. Тюлевин
B45: Исполнитель
B46: Харитонова Л. С.

Sheet 1 И 2 ПОЛУГОДИЕ 2012
A1: Единые (котловые) тарифы на услуги по передаче | I1: платит Самараэнерго по одноставочным
A2: электрической энергии по сетям Самарской области
L3: по договорам 2012 г. (Самараэнерго - одноставочный)
A4: 2009 г.
A5: Уровень напря- жения | B5: 2-х ставочный | F5: одноставочный | H5: часов в год
B6: Ставка за содержание электрических сетей | C6: Индекс роста к пред. году | D6: Ставка за оплату потерь электрической энергии в сетях | E6: Индекс роста к пред. году | F6: Тариф на услуги по передаче электрической энергии | G6: Индекс роста к пред. году
B7: ТСОД | C7: % | D7: ТПОТ | E7: % | G7: % | H7: чччи
B8: руб./МВт.мес. | D8: руб./МВт.ч. | F8: руб./МВт.ч. | H8: час.
A9: ВН | B9: 124404 | D9: 228.06 | F9: 433 | H9: =(B9*12/(F9-D9)) -> 7284.3174
A10: СН1 | B10: 166069 | D10: 749.32 | F10: 1022.95 | H10: =(B10*12/(F10-D10)) -> 7282.9295
A11: СН2 | B11: 417747 | D11: 810.58 | F11: 1498.78 | H11: =(B11*12/(F11-D11)) -> 7284.1674
A12: НН | B12: 481133 | D12: 1074.45 | F12: 1903 | H12: =(B12*12/(F12-D12)) -> 6968.3133
A13: Население | H13: =(B13*12/(F13-D13)) -> #DIV/0!
A15: 2010 г.
A16: Уровень напря- жения | B16: 2-х ставочный | F16: одноставочный | H16: часов в год
B17: Ставка за содержание электрических сетей | C17: Индекс роста к пред. году | D17: Ставка за оплату потерь электрической энергии в сетях | E17: Индекс роста к пред. году | F17: Тариф на услуги по передаче электрической энергии | G17: Индекс роста к пред. году
B18: ТСОД | C18: % | D18: ТПОТ | E18: % | G18: % | H18: чччи
B19: руб./МВт.мес. | D19: руб./МВт.ч. | F19: руб./МВт.ч. | H19: час.
A20: ВН | B20: 300621.82 | C20: =B20/B9-1 -> 1.4164964 | D20: 176.8 | E20: =D20/D9-1 -> -0.22476541 | F20: 592.41 | G20: =F20/F9-1 -> 0.36815242 | H20: =(B20*12/(F20-D20)) -> 8679.9207
A21: СН1 | B21: 490793.23 | C21: =B21/B10-1 -> 1.9553573 | D21: 180 | E21: =D21/D10-1 -> -0.7597822 | F21: 969.48 | G21: =F21/F10-1 -> -0.052270394 | H21: =(B21*12/(F21-D21)) -> 7459.9974
A22: СН2 | B22: 680321 | C22: =B22/B11-1 -> 0.6285479 | D22: 210 | E22: =D22/D11-1 -> -0.74092625 | F22: 1441.35 | G22: =F22/F11-1 -> -0.038317832 | H22: =(B22*12/(F22-D22)) -> 6630.0012
A23: НН | B23: 851305.82 | C23: =B23/B12-1 -> 0.76937732 | D23: 432 | E23: =D23/D12-1 -> -0.59793383 | F23: 2296.17 | G23: =F23/F12-1 -> 0.20660536 | H23: =(B23*12/(F23-D23)) -> 5480.0098
A24: Население | B24: 116581.82 | D24: 162.7 | F24: 380.24 | H24: =(B24*12/(F24-D24)) -> 6430.9177
F25: на 2011г. изм. пр.27 от 28.04.11
A26: 2011 г. | J26: с 01.01.2011
A27: Уровень напря- жения | B27: 2-х ставочный | F27: одноставочный | H27: часов в год
B28: Ставка за содержание электрических сетей | C28: Индекс роста к пред. году | D28: Ставка за оплату потерь электрической энергии в сетях | E28: Индекс роста к пред. году | F28: Тариф на услуги по передаче электрической энергии | G28: Индекс роста к пред. году | J28: 2011 г. к 2009 г. (за два года)
B29: ТСОД | C29: % | D29: ТПОТ | E29: % | G29: % | H29: ччим | J29: двухстав. | L29: одностав.
B30: руб./МВт.мес. | D30: руб./МВт.ч. | F30: руб./МВт.ч. | H30: час. | J30: содерж. | K30: опл.пот.
A31: ВН | B31: 364484.63 | C31: =B31/B20-1 -> 0.21243571 | D31: 151.36 | E31: =D31/D20-1 -> -0.1438914 | F31: 671 | G31: =F31/F20-1 -> 0.1326615 | H31: =(B31*12/(F31-D31)) -> 8417.0109 | J31: =B31/B9-1 -> 1.9298465 | K31: =D31/D9-1 -> -0.336315 | L31: =F31/F9-1 -> 0.54965358 | N31: 0.21461488
A32: СН1 | B32: 684381.17 | C32: =B32/B21-1 -> 0.3944389 | D32: 162.12 | E32: =D32/D21-1 -> -0.099333333 | F32: 1153.65 | G32: =F32/F21-1 -> 0.18996782 | H32: =(B32*12/(F32-D32)) -> 8282.7288 | J32: =B32/B10-1 -> 3.1210652 | K32: =D32/D10-1 -> -0.78364384 | L32: =F32/F10-1 -> 0.12776773 | N32: 0.2451211
A33: СН2 | B33: 942948.34 | C33: =B33/B22-1 -> 0.38603445 | J33: =B33/B11-1 -> 1.2572235 | K33: =D33/D11-1 -> -1 | L33: =F33/F11-1 -> -1 | N33: 0.35747736
A34: НН | B34: 1640145.1 | C34: =B34/B23-1 -> 0.9266227 | D34: 472.06 | E34: =D34/D23-1 -> 0.092731481 | F34: 2747.68 | G34: =F34/F23-1 -> 0.19663614 | H34: =(B34*12/(F34-D34)) -> 8648.9578 | J34: =B34/B12-1 -> 2.4089225 | K34: =D34/D12-1 -> -0.56064963 | L34: =F34/F12-1 -> 0.44386758 | N34: 0.32037262
A35: Население | B35: 133702.84 | C35: =B35/B24-1 -> 0.1468584 | D35: 150 | E35: =D35/D24-1 -> -0.078057775 | F35: 437.28 | G35: =F35/F24-1 -> 0.15001052 | H35: =(B35*12/(F35-D35)) -> 5584.914 | N35: -0.38102251
A37: 2012 г.
A38: Уровень напря- жения | B38: 2-х ставочный | F38: одноставочный | H38: часов в год
B39: Ставка за содержание электрических сетей | C39: Индекс роста к пред. году | D39: Ставка за оплату потерь электрической энергии в сетях | E39: Индекс роста к пред. году | F39: Тариф на услуги по передаче электрической энергии | G39: Индекс роста к пред. году
B40: ТСОД | C40: % | D40: ТПОТ | E40: % | H40: ччим
B41: руб./МВт.мес. | D41: руб./МВт.ч. | F41: руб./МВт.ч. | G41: % | H41: час.
A42: ВН | B42: 427956.36 | C42: =B42/B31-1 -> 0.17414103 | D42: 179.28 | E42: =D42/D31-1 -> 0.18446089 | F42: 789.41 | G42: =F42/F31-1 -> 0.17646796 | H42: =(B42*12/(F42-D42)) -> 8417.0198
...

Sheet 2012
A1: Расчет по договорам оказания услуг по передаче электрической энергии на 2012 г.
A2: ФГУП «ГНПРКЦ «ЦСКБ-Прогресс»
A3: Объемы организ.по стр-ре Самараэнерго
B4: Единые (котловые) тарифы на услуги по передаче электрической энергии на 2010 г.
B6: Уровень напряжения | D6: Ставка за содержание электрических сетей | E6: Ставка за оплату потерь электрической энергии в сетях | F6: Тариф на услуги по передаче электрической энергии
D8: ТСОД | E8: ТПОТ
D9: руб./МВт.мес. | E9: руб./МВт.ч | F9: руб./МВт.ч | G9: часов в год
B10: ВН | D10: 300621.82 | E10: 176.8 | F10: 592.41 | G10: =(D10*12/(F10-E10)) -> 8679.9207
B11: СН1 | D11: 490793.23 | E11: 180 | F11: 969.48 | G11: =(D11*12/(F11-E11)) -> 7459.9974
B12: СН2 | D12: 680321 | E12: 210 | F12: 1441.35 | G12: =(D12*12/(F12-E12)) -> 6630.0012 | H12: МРСК
B13: НН | D13: 851305.82 | E13: 432 | F13: 2296.17 | G13: =(D13*12/(F13-E13)) -> 5480.0098 | H13: =(365-53)*16 -> 4992 | I13: 16 час.в день, за "_" воскрес. | L13: 16 час.в день, за "_" воскрес.
B15: Показатели | D15: Полезный отпуск | F15: Единый (котловой) тариф | I15: Платежи за год, тыс.руб.
F16: двухставочный | H16: одно- ставочный | I16: по 2- ставочному | L16: по одностав. 2012 г.
D17: Мощность, Мвт | E17: ЭЭ, тыс.кВт.ч | F17: Ставка за содержание электрических сетей, руб./ МВт.мес. | G17: Ставка за оплату потерь электрической энергии в сетях, руб./МВт.ч | H17: по факту потребления электро- энергии, руб./МВт.ч | I17: Содержание | J17: Потери | K17: Итого | L17: Содер- жание | M17: Потери | N17: Итого
A18: 1 | B18: 2 | D18: 3 | E18: 4 | F18: 5 | G18: 6 | H18: 7 | I18: 8= ст.3 х ст.5 х 12 мес. | J18: 9= ст.4 х ст.6 | K18: 10=8+9 | L18: 11 | M18: 12 | N18: 13 | O18: потери, тыс.руб. | Q18: по дог.должно получ.
A19: I. | B19: Необходимая валовая выручка (НВВ) | I19: 2744.8 | J19: =E42*E43/1000 -> 2216.7543 | K19: =ROUND((I19+J19),1) -> 4961.6 | L19: при работе с сетевыми по одностав.тарифу | N19: =N23-N31+N36 -> 5002.0371 | O19: =$E$42*$E$43/1000 -> 2216.7543 | Q19: =N23+K36-N32-K35 -> 15947.535
B20: Тарифная выручка | I20: =I23+I36-I31 -> 3764.1667 | J20: =ROUND((J23+J36-J31),1) -> 2944.4 | K20: =ROUND((I20+J20),1) -> 6708.6 | L20: при работе по 2-х став.тарифу с ОАО "МРСК Волги" | N20: =N23-K31+N36 -> 5009.7354
B21: Строка проверки | I21: =K19-K20 -> -1747
A22: II. | B22: Платежи ОАО "Самараэнерго" в адрес ФГУП «ГНПРКЦ «ЦСКБ-Прогресс» | I22: по двухставочному тарифу | L22: по одноставочному тарифу
I23: =SUM(I25:I29) -> 11373.245 | J23: =SUM(J25:J29) -> 2756.1878 | K23: =I23+J23 -> 14129.433 | N23: =SUM(N25:N29) -> 12425.6 | O23: =N23-K23 -> -1703.8326 | P23: =N19-K20 -> -1706.5629
B24: Полезный отпуск всего | C24: чччи, час. | D24: =SUM(D25:D29) -> 1.37 | E24: =SUM(E25:E29) -> 9367.7
B25: в т.ч. ВН несетевым организациям | C25: =E25/D25 -> 7140.3509 | D25: 0.57 | E25: =2033.37+2036.63 -> 4070 | F25: 364484.63 | G25: 151.36 | H25: 671 | I25: =D25*F25*12/1000 -> 2493.0749 | J25: =E25*G25/1000 -> 616.0352 | K25: =I25+J25 -> 3109.1101 | N25: =ROUND((E25*H25/1000),1) -> 2731 | O25: ='2012г.об.под факт2010'!N23-'2012'!N23 -> 3125.2
B26: в т.ч. СН II несетевым организациям | C26: =E26/D26 -> 6689.3333 | D26: 0.75 | E26: =2506.49+2510.51 -> 5017 | F26: 942948.34 | G26: 414.16 | H26: 1847.1 | I26: =D26*F26*12/1000 -> 8486.5351 | J26: =E26*G26/1000 -> 2077.8407 | K26: =I26+J26 -> 10564.376 | N26: =ROUND((E26*H26/1000),1) -> 9266.9 | O26: др.стр-ра
B27: НН несетевым организациям | C27: =E27/D27 -> 6600 | D27: 0.02 | E27: =65.4+66.6 -> 132 | F27: 1640145.1 | G27: 472.06 | H27: 2747.68 | I27: =D27*F27*12/1000 -> 393.63483 | J27: =E27*G27/1000 -> 62.31192 | K27: =I27+J27 -> 455.94675 | N27: =ROUND((E27*H27/1000),1) -> 362.7 | Q27: 2011 год НВВ | R27: потери | S27: итого
B28: СН II несетевым организациям (НАСЕЛЕНИЕ) | C28: =E28/D28 -> #DIV/0! | D28: 0 | E28: =7.75+8.95 -> 16.7 | H28: 437.28 | I28: =D28*F28*12/1000 -> 0 | J28: =E28*G28/1000 -> 0 | K28: =E28*H28/1000 -> 7.302576 | N28: =ROUND((E28*H28/1000),1) -> 7.3 | Q28: 2006.8 | R28: 2623.4 | S28: =SUM(Q28:R28) -> 4630.2
B29: НН несетевым организациям (НАСЕЛЕНИЕ) | C29: =E29/D29 -> 4400 | D29: 0.03 | E29: =61.29+70.71 -> 132 | H29: =H28 -> 437.28 | K29: =H29*E29/1000 -> 57.72096 | N29: =ROUND((E29*H29/1000),1) -> 57.7
A30: III. | B30: Платежи ФГУП «ГНПРКЦ «ЦСКБ-Прогресс» в адрес: | D30: Сальдо-переток | F30: Индивидуальный тариф | I30: по двухставочному тарифу | L30: по одноставочному тарифу
D31: Мощность, Мвт | E31: ЭЭ, тыс.кВт.ч | F31: руб./ МВт.мес. | G31: руб./МВт.ч | H31: одност. руб./МВт.ч | I31: =SUM(I32:I35) -> 10236.238 | J31: =SUM(J32:J35) -> 1118.5294 | K31: =SUM(K32:K35) -> 11354.767 | L31: =SUM(L35:L35) -> 0 | M31: =SUM(M35:M35) -> 0 | N31: =SUM(N32:N35) -> 11362.466
A32: 1 | B32: ЗАО "ССК" (п.179) | C32: =E32/D32 -> 7593.7143 | D32: 0.07 | E32: 531.56 | F32: 397902.31 | G32: 93.93 | H32: =K32/E32*1000+35.93 -> 758.64685 | I32: =$D32*$F32*12/1000 -> 334.23794 | J32: =$E32*$G32/1000 -> 49.929431 | K32: =I32+J32 -> 384.16737 | N32: =E32*H32/1000 -> 403.26632
A33: 2 | B33: ООО "Энергонефть Самара" (п.182) | C33: =E33/D33 -> 6603 | D33: 0.07 | E33: 462.21 | F33: 139799.97 | G33: 95.89 | H33: =K33/E33*1000-18.03 -> 331.81098 | I33: =ROUND(($D$33*$F$33*12/1000),1) -> 117.4 | J33: =ROUND(($E$33*$G$33/1000),1) -> 44.3 | K33: =I33+J33 -> 161.7 | N33: =E33*H33/1000 -> 153.36635
A34: 3 | B34: ОАО "МРСК Волги" (п.181) | C34: =E34/D34 -> 7634.3021 | D34: =D24+D32+D35+D38+D39+G42-D33+0.01 -> 2.87 | E34: =$E$24+$E$38+$E$39+$E$32+$E$35+$E$42-$E$33 -> 21910.447 | F34: 283891.76 | G34: 46.69 | H34: =K34/E34*1000-0.15 -> 492.77468 | I34: =ROUND(($D$34*$F$34*12/1000),1) -> 9777.2 | J34: =ROUND(($E$34*$G$34/1000),1) -> 1023 | K34: =I34+J34 -> 10800.2 | N34: =E34*H34/1000 -> 10796.913
A35: 4 | B35: ОАО "РЖД" (п.180) | C35: =E35/D35 -> 9036.7889 | D35: 0.09 | E35: 813.311 | F35: 6820.2 | G35: 1.61 | H35: =K35/E35*1000+0.27 -> 10.967015 | I35: =ROUND(($D$35*$F$35*12/1000),1) -> 7.4 | J35: =ROUND(($E$35*$G$35/1000),1) -> 1.3 | K35: =I35+J35 -> 8.7 | N35: =E35*H35/1000 -> 8.919594
A36: IV. | B36: Платежи в адрес ФГУП «ГНПРКЦ «ЦСКБ-Прогресс» от смежных сетевых всего: | F36: руб./ МВт.мес. | G36: руб./МВт.ч | H36: руб./МВт.ч | I36: =SUM(I37:I39) -> 2627.1599 | J36: =SUM(J37:J39) -> 1306.7418 | K36: =SUM(K37:K39) -> 3933.9017 | L36: =SUM(L38:L39) -> 0 | M36: =SUM(M38:M39) -> 0 | N36: =SUM(N37:N39) -> 3938.9028
A37: 1 | B37: ОАО "МРСК Волги" (п.162) | C37: =E37/D37 -> 7660.9955 | D37: =$D$24+$D$38+$D$39+$D$32+$D$35+$G$42-$D$33 -> 2.86 | E37: =$E$24+$E$38+$E$39+$E$32+$E$35+$E$42-$E$33 -> 21910.447 | H37: =K37/E37*1000 -> 0 | I37: =$D$37*$F$37*12/1000 -> 0 | J37: =$E$37*$G$37/1000 -> 0 | K37: =I37+J37 -> 0 | N37: =E37*H37/1000 -> 0
A38: 1 | B38: ООО "Энерго" (п.140) | C38: =E38/D38 -> 8642.2018 | D38: 1.09 | E38: 9420 | F38: 181738.41 | G38: 125.28 | H38: =K38/E38*1000 -> 377.63015 | I38: =$D38*$F38*12/1000 -> 2377.1384 | J38: =$E38*$G38/1000 -> 1180.1376 | K38: =I38+J38 -> 3557.276 | N38: =E38*H38/1000 -> 3557.276
A39: 2 | B39: МП г.о.Самара "Самарский метрополитен" (п.57) | C39: =E39/D39 -> 6740 | D39: 0.1 | E39: 674 | F39: 208351.27 | G39: 187.84 | H39: =K39/E39*1000+7.42 -> 566.21182 | I39: =$D$39*$F$39*12/1000 -> 250.02152 | J39: =$E$39*$G$39/1000 -> 126.60416 | K39: =I39+J39 -> 376.62568 | N39: =E39*H39/1000 -> 381.62676
B41: Число месяцев работы М = 12
D42: Потери в сетях ФГУП «ГНПРКЦ «ЦСКБ-Прогресс» на потребителя - | E42: =(E24+E32+E35+E38+E39)/(1-7/100)*7/100 -> 1566.086 | F42: тыс.кВт.ч | G42: 0.21 | H42: =E42/(E34+E33) -> 0.07
D43: Тариф покупки потерь на потребителя - | E43: =2216.76/1566.09*1000 -> 1415.4742 | F43: руб./тыс.кВт.ч
E45: руб./тыс.кВт.ч | G45: платежи от 3-х орг. В адрес ОАО "1253 ЦРБРЛВ" по один.тарифу
...

Sheet 1п-е 2012
A1: Расчет по договорам оказания услуг по передаче электрической энергии на 1 полугодие 2012 г.
A2: ФГУП «ГНПРКЦ «ЦСКБ-Прогресс»
A3: Объемы организ.по стр-ре Самараэнерго
B4: Единые (котловые) тарифы на услуги по передаче электрической энергии на 2010 г.
B6: Уровень напряжения | D6: Ставка за содержание электрических сетей | E6: Ставка за оплату потерь электрической энергии в сетях | F6: Тариф на услуги по передаче электрической энергии
D8: ТСОД | E8: ТПОТ
D9: руб./МВт.мес. | E9: руб./МВт.ч | F9: руб./МВт.ч | G9: часов в год
B10: ВН | D10: 300621.82 | E10: 176.8 | F10: 592.41 | G10: =(D10*12/(F10-E10)) -> 8679.9207
B11: СН1 | D11: 490793.23 | E11: 180 | F11: 969.48 | G11: =(D11*12/(F11-E11)) -> 7459.9974
B12: СН2 | D12: 680321 | E12: 210 | F12: 1441.35 | G12: =(D12*12/(F12-E12)) -> 6630.0012 | H12: МРСК
B13: НН | D13: 851305.82 | E13: 432 | F13: 2296.17 | G13: =(D13*12/(F13-E13)) -> 5480.0098 | H13: =(365-53)*16 -> 4992 | I13: 16 час.в день, за "_" воскрес. | L13: 16 час.в день, за "_" воскрес.
B15: Показатели | D15: Полезный отпуск | F15: Единый (котловой) тариф | I15: Платежи за 1 полугодие, тыс.руб.
F16: двухставочный | H16: одно- ставочный | I16: по 2- став. | L16: по одностав.
D17: Мощность, Мвт | E17: ЭЭ, тыс.кВт.ч | F17: Ставка за содержание электрических сетей, руб./ МВт.мес. | G17: Ставка за оплату потерь электрической энергии в сетях, руб./МВт.ч | H17: по факту потребления электро- энергии, руб./МВт.ч | I17: Содержание | J17: Потери | K17: Итого | L17: Содер- жание | M17: Потери | N17: Итого
A18: 1 | B18: 2 | D18: 3 | E18: 4 | F18: 5 | G18: 6 | H18: 7 | I18: 8= ст.3 х ст.5 х 12 мес. | J18: 9= ст.4 х ст.6 | K18: 10=8+9 | L18: 11 | M18: 12 | N18: 13 | O18: потери, тыс.руб.
A19: I. | B19: Необходимая валовая выручка (НВВ) | I19: ='2012'!I19/2 -> 1372.4 | J19: =E42*E43/1000 -> 1090.8186 | K19: =ROUND((I19+J19),1) -> 2463.2 | L19: при работе с сетевыми по одностав.тарифу | N19: =N23-N31+N36 -> 2514.6138 | O19: =$E$42*$E$43/1000 -> 1090.8186
B20: Тарифная выручка | I20: =I23+I36-I31 -> 1882.0834 | J20: =ROUND((J23+J36-J31),1) -> 1485.8 | K20: =ROUND((I20+J20),1) -> 3367.9 | L20: при работе по 2-х став.тарифу с ОАО "МРСК Волги" | N20: =N23-K31+N36 -> 2437.3974 | P20: =N20-J20 -> 951.5974
B21: Строка проверки | I21: =K19-K20 -> -904.7
A22: II. | B22: Платежи ОАО "Самараэнерго" в адрес ФГУП «ГНПРКЦ «ЦСКБ-Прогресс» | I22: по двухставочному тарифу | L22: по одноставочному тарифу
I23: =SUM(I25:I29) -> 5686.6224 | J23: =SUM(J25:J29) -> 1406.9213 | K23: =SUM(K25:K29) -> 7093.5437 | N23: =SUM(N25:N29) -> 6204 | O23: =N23-K23 -> -889.5437 | P23: =N19-K20 -> -853.28619
B24: Полезный отпуск всего | C24: чччи, час. | D24: =SUM(D25:D29) -> 1.37 | E24: =SUM(E25:E29) -> 4674.3
B25: в т.ч. ВН несетевым организациям | C25: =E25/D25 -> 3567.3158 | D25: ='2012'!D25 -> 0.57 | E25: =2033.37 -> 2033.37 | F25: =E64 -> 364484.63 | G25: =F64 -> 151.36 | H25: =G64 -> 671 | I25: =D25*F25*6/1000 -> 1246.5374 | J25: =E25*G25/1000 -> 307.77088 | K25: =I25+J25 -> 1554.3083 | N25: =ROUND((E25*H25/1000),1) -> 1364.4 | O25: ='2012г.об.под факт2010'!N23-'1п-е 2012'!N23 -> 9346.8
B26: в т.ч. СН II несетевым организациям | C26: =E26/D26 -> 3341.9867 | D26: ='2012'!D26 -> 0.75 | E26: =2506.49 -> 2506.49 | F26: =E66 -> 942948.34 | G26: =F66 -> 414.16 | H26: =G66 -> 1847.1 | I26: =D26*F26*6/1000 -> 4243.2675 | J26: =E26*G26/1000 -> 1038.0879 | K26: =I26+J26 -> 5281.3554 | N26: =ROUND((E26*H26/1000),1) -> 4629.7 | O26: др.стр-ра
B27: НН несетевым организациям | C27: =E27/D27 -> 3270 | D27: ='2012'!D27 -> 0.02 | E27: =65.4 -> 65.4 | F27: =E67 -> 1640145.1 | G27: =F67 -> 472.06 | H27: =G67 -> 2747.68 | I27: =D27*F27*6/1000 -> 196.81741 | J27: =E27*G27/1000 -> 30.872724 | K27: =I27+J27 -> 227.69014 | N27: =ROUND((E27*H27/1000),1) -> 179.7
B28: СН II несетевым организациям (НАСЕЛЕНИЕ) | C28: =E28/D28 -> #DIV/0! | D28: ='2012'!D28 -> 0 | E28: =7.75 -> 7.75 | H28: =G68 -> 437.28 | I28: =D28*F28*6/1000 -> 0 | J28: =K28 -> 3.38892 | K28: =E28*H28/1000 -> 3.38892 | N28: =ROUND((E28*H28/1000),1) -> 3.4
B29: НН несетевым организациям (НАСЕЛЕНИЕ) | C29: =E29/D29 -> 2043 | D29: ='2012'!D29 -> 0.03 | E29: =61.29 -> 61.29 | H29: =H28 -> 437.28 | J29: =K29 -> 26.800891 | K29: =H29*E29/1000 -> 26.800891 | N29: =ROUND((E29*H29/1000),1) -> 26.8
A30: III. | B30: Платежи ФГУП «ГНПРКЦ «ЦСКБ-Прогресс» в адрес: | D30: Сальдо-переток | F30: Индивидуальный тариф | I30: по двухставочному тарифу | L30: по одноставочному тарифу
D31: Мощность, Мвт | E31: ЭЭ, тыс.кВт.ч | F31: руб./ МВт.мес. | G31: руб./МВт.ч | H31: одност. руб./МВт.ч | I31: =SUM(I32:I35) -> 5118.119 | J31: =SUM(J32:J35) -> 552.97983 | K31: =SUM(K32:K35) -> 5671.0988 | L31: =SUM(L35:L35) -> 0 | M31: =SUM(M35:M35) -> 0 | N31: =SUM(N32:N35) -> 5593.8824
A32: 1 | B32: ЗАО "ССК" (п.179) | C32: =E32/D32 -> 3875.2 | D32: ='2012'!D32 -> 0.07 | E32: 271.264 | F32: 397902.31 | G32: 93.93 | H32: 758.64685 | I32: =$D32*$F32*6/1000 -> 167.11897 | J32: =$E32*$G32/1000 -> 25.479828 | K32: =I32+J32 -> 192.5988 | N32: =E32*H32/1000 -> 205.79358
A33: 2 | B33: ООО "Энергонефть Самара" (п.182) | C33: =E33/D33 -> 3689.8286 | D33: ='2012'!D33 -> 0.07 | E33: 258.288 | F33: 139799.97 | G33: 95.89 | H33: 331.81098 | I33: =ROUND(($D$33*$F$33*6/1000),1) -> 58.7 | J33: =ROUND(($E$33*$G$33/1000),1) -> 24.8 | K33: =I33+J33 -> 83.5 | N33: =E33*H33/1000 -> 85.702795
